BEGIN:VCALENDAR
VERSION:2.0
PRODID:-//L&#039;essentielle - ECPv6.15.20//NONSGML v1.0//EN
CALSCALE:GREGORIAN
METHOD:PUBLISH
X-ORIGINAL-URL:https://epicerie-lessentielle.fr
X-WR-CALDESC:Évènements pour L&#039;essentielle
REFRESH-INTERVAL;VALUE=DURATION:PT1H
X-Robots-Tag:noindex
X-PUBLISHED-TTL:PT1H
BEGIN:VTIMEZONE
TZID:UTC
BEGIN:STANDARD
TZOFFSETFROM:+0000
TZOFFSETTO:+0000
TZNAME:UTC
DTSTART:20210101T000000
END:STANDARD
END:VTIMEZONE
BEGIN:VEVENT
DTSTART;TZID=UTC:20220413T110000
DTEND;TZID=UTC:20220413T130000
DTSTAMP:20260425T124744
CREATED:20220330T225637Z
LAST-MODIFIED:20220330T225637Z
UID:1140-1649847600-1649854800@epicerie-lessentielle.fr
SUMMARY:Dégustation de café avec Label(le) Brûlerie
DESCRIPTION:Envie d’en savoir plus sur le bon café qui embaume l’épicerie à chaque fois que le moulin rugit ?  \nSavez-vous qu’il est torréfié à Villeurbanne ? Livré en seau consigné ? Connaissez-vous Clark et Lucifer ? \nPassez les voir pour tout savoir et déguster le petit saisonnier du moment !
URL:https://epicerie-lessentielle.fr/event/degustation-de-cafe-avec-labelle-brulerie/
LOCATION:L’Essentielle\, 48 Avenue Lacassagne\, LYON\, 69003\, France
CATEGORIES:Dégustation
END:VEVENT
BEGIN:VEVENT
DTSTART;TZID=UTC:20220413T180000
DTEND;TZID=UTC:20220413T193000
DTSTAMP:20260425T124744
CREATED:20220330T224914Z
LAST-MODIFIED:20220330T224914Z
UID:1137-1649872800-1649878200@epicerie-lessentielle.fr
SUMMARY:Conférence : Un printemps en pleine forme grâce à la naturopathie
DESCRIPTION:Tout ce que vous pouvez mettre en place pour vivre un printemps au top de votre forme ! \nAu programme :\n Les bases d’une alimentation saine\, pour allier plaisir et vitalité au printemps\n L’importance de l’hygiène de vie pour retrouver toute votre énergie à la sortie de l’hiver\n Les allergies saisonnières\, comment les prévenir et gérer les crises\n Temps d’échange\, de questions – réponses\n Un programme bien chargé mais rassurez-vous\, vous repartirez avec un ebook contenant tous les conseils de l’atelier.
URL:https://epicerie-lessentielle.fr/event/conference-un-printemps-en-pleine-forme-grace-a-la-naturopathie/
LOCATION:L’Essentielle\, 48 Avenue Lacassagne\, LYON\, 69003\, France
CATEGORIES:Conférence
ORGANIZER;CN="Les Graines d'H%C3%A9l%C3%A8ne":MAILTO:contact@lesgrainesdhelene.com
END:VEVENT
END:VCALENDAR