BEGIN:VCALENDAR
VERSION:2.0
PRODID:-//L&#039;essentielle - ECPv6.15.20//NONSGML v1.0//EN
CALSCALE:GREGORIAN
METHOD:PUBLISH
X-WR-CALNAME:L&#039;essentielle
X-ORIGINAL-URL:https://epicerie-lessentielle.fr
X-WR-CALDESC:Évènements pour L&#039;essentielle
REFRESH-INTERVAL;VALUE=DURATION:PT1H
X-Robots-Tag:noindex
X-PUBLISHED-TTL:PT1H
BEGIN:VTIMEZONE
TZID:UTC
BEGIN:STANDARD
TZOFFSETFROM:+0000
TZOFFSETTO:+0000
TZNAME:UTC
DTSTART:20210101T000000
END:STANDARD
END:VTIMEZONE
BEGIN:VEVENT
DTSTART;TZID=UTC:20220421T150000
DTEND;TZID=UTC:20220421T163000
DTSTAMP:20260425T152219
CREATED:20220411T222112Z
LAST-MODIFIED:20220411T222112Z
UID:1146-1650553200-1650558600@epicerie-lessentielle.fr
SUMMARY:Atelier Créatif	"Animaux Récup en Folie"
DESCRIPTION:Atelier créatif en duo Parents-Enfants (4 – 10 ans) \nEn jouet\, dans les livres et les films\, les animaux accompagnent les enfants tout au long de leur développement. Ils sont source d’amusement et de créativité. \nVenez créer en famille leurs animaux préférés à base de matière de récup ! \nUne atelier qui associe créativité\, motricité fine et bienveillance pour profiter d’un moment de partage\, loin des écrans et des contraintes de la maison. \nInformations et inscription par MP @aujoyeuxbazardeclaire ou par email : aujoyeuxbazardeclaire@gmail.com \nForfait duo (1 adulte / 1 enfant) : 16€ \nForfait trio (1 adulte / 2 enfants) : 28€
URL:https://epicerie-lessentielle.fr/event/atelier-creatifanimaux-recup-en-folie/
LOCATION:L’Essentielle\, 48 Avenue Lacassagne\, LYON\, 69003\, France
CATEGORIES:Atelier
ORGANIZER;CN="Au Joyeux Bazar de Claire":MAILTO:aujoyeuxbazardeclaire@gmail.com
END:VEVENT
END:VCALENDAR