BEGIN:VCALENDAR
VERSION:2.0
PRODID:-//L&#039;essentielle - ECPv6.15.20//NONSGML v1.0//EN
CALSCALE:GREGORIAN
METHOD:PUBLISH
X-WR-CALNAME:L&#039;essentielle
X-ORIGINAL-URL:https://epicerie-lessentielle.fr
X-WR-CALDESC:Évènements pour L&#039;essentielle
REFRESH-INTERVAL;VALUE=DURATION:PT1H
X-Robots-Tag:noindex
X-PUBLISHED-TTL:PT1H
BEGIN:VTIMEZONE
TZID:UTC
BEGIN:STANDARD
TZOFFSETFROM:+0000
TZOFFSETTO:+0000
TZNAME:UTC
DTSTART:20210101T000000
END:STANDARD
END:VTIMEZONE
BEGIN:VEVENT
DTSTART;TZID=UTC:20220518T150000
DTEND;TZID=UTC:20220518T163000
DTSTAMP:20260423T205118
CREATED:20220430T135105Z
LAST-MODIFIED:20220430T135105Z
UID:1202-1652886000-1652891400@epicerie-lessentielle.fr
SUMMARY:Atelier Créatif "Porte Messages récup"
DESCRIPTION:Atelier créatif Porte Messages \nEt si\, pour faire passer vos petits messages\, vous disposiez de votre propre Porte Messages\, personnalisé et en matière de recup ? Venez fabriquer\, en famille\, votre objet familial où chacun pourra laisser un message « privé » à une personne de la maisonnée ! \nUn atelier qui associe créativité\, motricité fine dans une ambiance bienveillante et conviviale pour profiter d’un moment de partage en famille\, loin des écrans et des contraintes de la maison. \nRendez-vous à l’épicerie mercredi 18 juin de 15h à 16h30 avec Claire\, animatrice de liens. \n  \nInscription : par MP @aujoyeuxbazardeclaire ou par mail : aujoyeuxbazardeclaire@gmail.com \nTarif :\n16€ / duo (1 adulte – 1 enfant)\n28€ / trio (1 adulte – 2 enfants)
URL:https://epicerie-lessentielle.fr/event/atelier-creatif-porte-messages-recup/
LOCATION:L’Essentielle\, 48 Avenue Lacassagne\, LYON\, 69003\, France
ORGANIZER;CN="Au Joyeux Bazar de Claire":MAILTO:aujoyeuxbazardeclaire@gmail.com
END:VEVENT
END:VCALENDAR