BEGIN:VCALENDAR
VERSION:2.0
PRODID:-//L&#039;essentielle - ECPv6.15.20//NONSGML v1.0//EN
CALSCALE:GREGORIAN
METHOD:PUBLISH
X-WR-CALNAME:L&#039;essentielle
X-ORIGINAL-URL:https://epicerie-lessentielle.fr
X-WR-CALDESC:Évènements pour L&#039;essentielle
REFRESH-INTERVAL;VALUE=DURATION:PT1H
X-Robots-Tag:noindex
X-PUBLISHED-TTL:PT1H
BEGIN:VTIMEZONE
TZID:UTC
BEGIN:STANDARD
TZOFFSETFROM:+0000
TZOFFSETTO:+0000
TZNAME:UTC
DTSTART:20210101T000000
END:STANDARD
END:VTIMEZONE
BEGIN:VEVENT
DTSTART;VALUE=DATE:20220526
DTEND;VALUE=DATE:20220527
DTSTAMP:20260423T220656
CREATED:20220519T141501Z
LAST-MODIFIED:20231011T093044Z
UID:1236-1653523200-1653609599@epicerie-lessentielle.fr
SUMMARY:Fermeture Jeudi 26 mai (ascension)
DESCRIPTION:Et oui ! Comme vous l’avez lu dans le titre\, nous serons fermés le jeudi 26 mai pour l’ascension. \nMais ne vous faite pas de soucis\, nous serons de retour dès le lendemain\, vendredi 27 mai ! \n  \n  \nBon week-end à tous ceux qui font le pont et Bon courage aux autres ! \n  \nCarole & Aline
URL:https://epicerie-lessentielle.fr/event/fermeture-jeudi-26-mai-ascension/
LOCATION:L’Essentielle\, 48 Avenue Lacassagne\, LYON\, 69003\, France
CATEGORIES:Fermeture
END:VEVENT
END:VCALENDAR