BEGIN:VCALENDAR
VERSION:2.0
PRODID:-//L&#039;essentielle - ECPv6.15.20//NONSGML v1.0//EN
CALSCALE:GREGORIAN
METHOD:PUBLISH
X-WR-CALNAME:L&#039;essentielle
X-ORIGINAL-URL:https://epicerie-lessentielle.fr
X-WR-CALDESC:Évènements pour L&#039;essentielle
REFRESH-INTERVAL;VALUE=DURATION:PT1H
X-Robots-Tag:noindex
X-PUBLISHED-TTL:PT1H
BEGIN:VTIMEZONE
TZID:UTC
BEGIN:STANDARD
TZOFFSETFROM:+0000
TZOFFSETTO:+0000
TZNAME:UTC
DTSTART:20210101T000000
END:STANDARD
END:VTIMEZONE
BEGIN:VEVENT
DTSTART;TZID=UTC:20220910T100000
DTEND;TZID=UTC:20220910T110000
DTSTAMP:20260420T201249
CREATED:20220829T212856Z
LAST-MODIFIED:20220829T212956Z
UID:1357-1662804000-1662807600@epicerie-lessentielle.fr
SUMMARY:Atelier shampoing solide
DESCRIPTION:Venez apprendre à faire votre shampoing solide personnalisé selon votre type de cheveux lors d’un atelier DIY d’une heure à base de produits bios\, au maximum locaux et toujours d’origine naturelle. \nViolène Baarsch\, praticienne diplômée de la Fédération Française de Naturopathie vous conseillera sur les ingrédients à utiliser pour que ce shampoing soit adapté à votre chevelure et vous prodiguera des astuces santé/beauté par la même occasion. \nVous repartirez avec votre shampoing mais aussi la recette pour le refaire chez vous en toute autonomie. \nTous les ingrédients et ustensiles sont fournis. \nRéservation obligatoire : https://my.weezevent.com/atelier-shampoing-solide \nPrix : 18€ \n 
URL:https://epicerie-lessentielle.fr/event/atelier-shampoing-solide-2/
LOCATION:L’Essentielle\, 48 Avenue Lacassagne\, LYON\, 69003\, France
CATEGORIES:Atelier
ORGANIZER;CN="Viol%C3%A8ne Baarsch":MAILTO:vio.naturopathe@gmail.com
END:VEVENT
END:VCALENDAR