BEGIN:VCALENDAR
VERSION:2.0
PRODID:-//L&#039;essentielle - ECPv6.15.20//NONSGML v1.0//EN
CALSCALE:GREGORIAN
METHOD:PUBLISH
X-ORIGINAL-URL:https://epicerie-lessentielle.fr
X-WR-CALDESC:Évènements pour L&#039;essentielle
REFRESH-INTERVAL;VALUE=DURATION:PT1H
X-Robots-Tag:noindex
X-PUBLISHED-TTL:PT1H
BEGIN:VTIMEZONE
TZID:UTC
BEGIN:STANDARD
TZOFFSETFROM:+0000
TZOFFSETTO:+0000
TZNAME:UTC
DTSTART:20220101T000000
END:STANDARD
END:VTIMEZONE
BEGIN:VEVENT
DTSTART;TZID=UTC:20230217T163000
DTEND;TZID=UTC:20230217T173000
DTSTAMP:20260421T111406
CREATED:20230204T163046Z
LAST-MODIFIED:20230913T093407Z
UID:1501-1676651400-1676655000@epicerie-lessentielle.fr
SUMMARY:Atelier parent/enfant création d'instruments récup
DESCRIPTION:Vous cherchez une occupation avec votre/vos enfants pendant les vacances ?\nValérie de Ludi’zique vous propose un atelier créatif parent-enfant pour les 3-7 ans.\n\n\n\n Au programme : musique et construction d’instruments à partir de matériaux de récup. Thème de cet atelier : les maracas pingouin\n\n\n\n Vendredi 17 février à 16h30\, dans l’arrière salle de l’épicerie.\nDurée 1h.\n\n\n\n Tarifs : 16€ 1 parent et 1 enfant\, 28€ 1 parent et 2 enfants.\nPaiement en Euros ou Gonettes (La Gonette : Monnaie Locale Citoyenne).\n\n\n\nRenseignements et inscriptions : ludizique@yahoo.fr\nRetrouvez l’événement Facebook ici : https://www.facebook.com/events/3581023312182402\n\n 
URL:https://epicerie-lessentielle.fr/event/atelier-parent-enfant-creation-dinstruments-recup/
LOCATION:L’Essentielle\, 48 Avenue Lacassagne\, LYON\, 69003\, France
CATEGORIES:Atelier,Enfant
ORGANIZER;CN="Ludizique":MAILTO:ludizique@yahoo.fr
END:VEVENT
END:VCALENDAR