BEGIN:VCALENDAR
VERSION:2.0
PRODID:-//L&#039;essentielle - ECPv6.15.20//NONSGML v1.0//EN
CALSCALE:GREGORIAN
METHOD:PUBLISH
X-WR-CALNAME:L&#039;essentielle
X-ORIGINAL-URL:https://epicerie-lessentielle.fr
X-WR-CALDESC:Évènements pour L&#039;essentielle
REFRESH-INTERVAL;VALUE=DURATION:PT1H
X-Robots-Tag:noindex
X-PUBLISHED-TTL:PT1H
BEGIN:VTIMEZONE
TZID:UTC
BEGIN:STANDARD
TZOFFSETFROM:+0000
TZOFFSETTO:+0000
TZNAME:UTC
DTSTART:20250101T000000
END:STANDARD
END:VTIMEZONE
BEGIN:VEVENT
DTSTART;TZID=UTC:20260423T173000
DTEND;TZID=UTC:20260423T190000
DTSTAMP:20260423T011433
CREATED:20260310T154844Z
LAST-MODIFIED:20260328T145316Z
UID:3241-1776965400-1776970800@epicerie-lessentielle.fr
SUMMARY:Atelier création de savons artisanaux
DESCRIPTION:Élise vous invite à découvrir les bases de la saponification à froid lors d’un atelier d’1h30 à l’épicerie. \nLe temps d’une initiation accessible à toutes et tous\, vous fabriquerez votre propre pain de savon\, à partir d’ingrédients biologiques et végétals. Chaque savon est unique\, à votre image. \nÉlise vous présentera les étapes clés de la fabrication\, puis vous guidera pas à pas : pesée\, mélange\, coulage… le tout dans une ambiance conviviale\, propice aux échanges. Vous repartez avec votre création\, prête à sécher tranquillement chez vous. \nUn moment simple\, créatif et engagé pour découvrir l’univers du savon naturel\, doux pour la peau comme pour la planète.
URL:https://epicerie-lessentielle.fr/event/atelier-creation-de-savons-artisanaux-5/
LOCATION:L’Essentielle\, 48 Avenue Lacassagne\, LYON\, 69003\, France
CATEGORIES:Atelier,Cosmétique
ORGANIZER;CN="Savonnerie Elise":MAILTO:savonnerie.elise@gmail.com
END:VEVENT
END:VCALENDAR