BEGIN:VCALENDAR
VERSION:2.0
PRODID:-//L&#039;essentielle - ECPv6.15.20//NONSGML v1.0//EN
CALSCALE:GREGORIAN
METHOD:PUBLISH
X-WR-CALNAME:L&#039;essentielle
X-ORIGINAL-URL:https://epicerie-lessentielle.fr
X-WR-CALDESC:Évènements pour L&#039;essentielle
REFRESH-INTERVAL;VALUE=DURATION:PT1H
X-Robots-Tag:noindex
X-PUBLISHED-TTL:PT1H
BEGIN:VTIMEZONE
TZID:UTC
BEGIN:STANDARD
TZOFFSETFROM:+0000
TZOFFSETTO:+0000
TZNAME:UTC
DTSTART:20220101T000000
END:STANDARD
END:VTIMEZONE
BEGIN:VEVENT
DTSTART;TZID=UTC:20230201T181500
DTEND;TZID=UTC:20230201T191500
DTSTAMP:20260424T121742
CREATED:20230120T165653Z
LAST-MODIFIED:20230913T093618Z
UID:1486-1675275300-1675278900@epicerie-lessentielle.fr
SUMMARY:Atelier Sophro Energie
DESCRIPTION:Besoin de retrouver votre dynamisme et votre énergie ?\n\n\nDelphine vous propose une séance collective de sophrologie pour donner un coup de fouet à votre corps et votre mental !\n\n\n\n Au programme :\n– exercices de respiration pour s’énergiser\n– exercices dynamiques pour le corps\n– visualisation mentale positive pour se booster\n\n\n\n Rendez-vous le 1er février à 18h15 à Epicerie L’Essentielle à Lyon 3 (durée 1h\, tarif 10€).\n\n\n\n Pour vous inscrire\, envoyez « sophro’énergie » par sms au 07.79.59.94.47 ou par email à dlemarie@equilibrom.fr.
URL:https://epicerie-lessentielle.fr/event/atelier-sophro-energie/
LOCATION:L’Essentielle\, 48 Avenue Lacassagne\, LYON\, 69003\, France
CATEGORIES:Atelier,Sophrologie
ORGANIZER;CN="Delphine Lemari%C3%A9%2C sophrologue":MAILTO:dlemarie@equilibrom.fr
END:VEVENT
BEGIN:VEVENT
DTSTART;TZID=UTC:20230204T150000
DTEND;TZID=UTC:20230204T173000
DTSTAMP:20260424T121742
CREATED:20230120T170152Z
LAST-MODIFIED:20230120T170305Z
UID:1489-1675522800-1675531800@epicerie-lessentielle.fr
SUMMARY:Découverte des changes lavables - Gratuit
DESCRIPTION:Atelier collectif gratuit pour tout connaître sur les couches lavables avec Éclaircie-conseil. Ouvert aux familles mais aussi aux assistantes maternelles + kit d’essai pour tester pendant un mois avec Locacouche.\nInscriptions : https://www.linscription.com/pro/activite.php?P1=100301
URL:https://epicerie-lessentielle.fr/event/decouverte-des-changes-lavables-gratuit/
LOCATION:L’Essentielle\, 48 Avenue Lacassagne\, LYON\, 69003\, France
CATEGORIES:Atelier
ORGANIZER;CN="Eclaircie Conseil":MAILTO:contact@eclaircie-conseil.com
END:VEVENT
BEGIN:VEVENT
DTSTART;TZID=UTC:20230217T163000
DTEND;TZID=UTC:20230217T173000
DTSTAMP:20260424T121742
CREATED:20230204T163046Z
LAST-MODIFIED:20230913T093407Z
UID:1501-1676651400-1676655000@epicerie-lessentielle.fr
SUMMARY:Atelier parent/enfant création d'instruments récup
DESCRIPTION:Vous cherchez une occupation avec votre/vos enfants pendant les vacances ?\nValérie de Ludi’zique vous propose un atelier créatif parent-enfant pour les 3-7 ans.\n\n\n\n Au programme : musique et construction d’instruments à partir de matériaux de récup. Thème de cet atelier : les maracas pingouin\n\n\n\n Vendredi 17 février à 16h30\, dans l’arrière salle de l’épicerie.\nDurée 1h.\n\n\n\n Tarifs : 16€ 1 parent et 1 enfant\, 28€ 1 parent et 2 enfants.\nPaiement en Euros ou Gonettes (La Gonette : Monnaie Locale Citoyenne).\n\n\n\nRenseignements et inscriptions : ludizique@yahoo.fr\nRetrouvez l’événement Facebook ici : https://www.facebook.com/events/3581023312182402\n\n 
URL:https://epicerie-lessentielle.fr/event/atelier-parent-enfant-creation-dinstruments-recup/
LOCATION:L’Essentielle\, 48 Avenue Lacassagne\, LYON\, 69003\, France
CATEGORIES:Atelier,Enfant
ORGANIZER;CN="Ludizique":MAILTO:ludizique@yahoo.fr
END:VEVENT
END:VCALENDAR