BEGIN:VCALENDAR
VERSION:2.0
PRODID:-//L&#039;essentielle - ECPv6.15.20//NONSGML v1.0//EN
CALSCALE:GREGORIAN
METHOD:PUBLISH
X-ORIGINAL-URL:https://epicerie-lessentielle.fr
X-WR-CALDESC:Évènements pour L&#039;essentielle
REFRESH-INTERVAL;VALUE=DURATION:PT1H
X-Robots-Tag:noindex
X-PUBLISHED-TTL:PT1H
BEGIN:VTIMEZONE
TZID:UTC
BEGIN:STANDARD
TZOFFSETFROM:+0000
TZOFFSETTO:+0000
TZNAME:UTC
DTSTART:20220101T000000
END:STANDARD
END:VTIMEZONE
BEGIN:VEVENT
DTSTART;TZID=UTC:20230603T151500
DTEND;TZID=UTC:20230603T161500
DTSTAMP:20260422T122732
CREATED:20230517T084832Z
LAST-MODIFIED:20230913T093633Z
UID:1725-1685805300-1685808900@epicerie-lessentielle.fr
SUMMARY:Atelier Sophro'détente
DESCRIPTION:Envie de se détendre\, de faire une pause !\n\n\n\n😇 Delphine vous propose une séance collective de sophrologie\, pendant une séance d’1 heure\, découvrez des exercices de sophrologie simples pour vous reconnecter à vous-même\, vous protéger du stress ambiant et vous libérer de la charge mentale engendrée par les crises sociétales que nous traversons.\n\n😇 Rendez-vous Samedi 03 juin à 15h15 dans la salle détente de l’épicerie\, située dans l’arrière boutique ! Rien de mieux que d’avoir un petit temps pour soi\, pour se ressourcer !\n\n\n\n\n\n\n😇 Pour vous inscrire\, envoyez simplement « sophro’détente » par sms au 07.79.59.94.47 ou par email à dlemarie@equilibrom.fr. Dépêchez-vous le nombre de place est limité !\n\n\n\n\n\nA bientôt\,\nCarole & Aline
URL:https://epicerie-lessentielle.fr/event/atelier-sophrodetente/
LOCATION:L’Essentielle\, 48 Avenue Lacassagne\, LYON\, 69003\, France
CATEGORIES:Atelier,Sophrologie
END:VEVENT
BEGIN:VEVENT
DTSTART;TZID=UTC:20230610T100000
DTEND;TZID=UTC:20230610T120000
DTSTAMP:20260422T122732
CREATED:20230524T144915Z
LAST-MODIFIED:20230913T093249Z
UID:1740-1686391200-1686398400@epicerie-lessentielle.fr
SUMMARY:Atelier crème de jour DIY
DESCRIPTION:[ Atelier cosmétique – crème de jour ]\n\n\n\nSamedi 10 juin  avec cosmEthik\, on vous a organisé un nouvel atelier cosmétique\, pour la création de votre crème de jour !\n\n\nAu programme de cet atelier: \n🌺 Choix de l’huile végétale qui correspond à votre type de peau \n🌺 Ajout d’un hydrolat ou d’une eau florale \n🌺 Et pour finir\, on choisit un actif cosmétique \n\n  \n\nRepartez avec vos soins 100% personnalisés que vous aurez vous-même réalisés\, mais aussi de nombreux conseils et des recettes ! \n  \nPour réserver\, dirigez vous vers ce lien \n– Règlement sur place en chèque ou espèces. \nUne confirmation quelques jours avant l’atelier vous sera envoyé (n’hésitez pas à consulter vos spams si ce n’est pas le cas). \n\n\n  \nCet atelier peut être un super cadeau pour votre maman !! \nPour toutes autres informations → contact@cosmethikdelise.fr \nA bientôt ! \nCarole & Aline \n 
URL:https://epicerie-lessentielle.fr/event/atelier-creme-de-jour-diy/
LOCATION:L’Essentielle\, 48 Avenue Lacassagne\, LYON\, 69003\, France
CATEGORIES:Atelier,Cosmétique
ORGANIZER;CN="CosmEthik d'Elise":MAILTO:contact@cosmethikdelise.fr
END:VEVENT
BEGIN:VEVENT
DTSTART;TZID=UTC:20230610T160000
DTEND;TZID=UTC:20230610T180000
DTSTAMP:20260422T122732
CREATED:20230524T103940Z
LAST-MODIFIED:20230524T103940Z
UID:1735-1686412800-1686420000@epicerie-lessentielle.fr
SUMMARY:Atelier Jardinière autonome - Permaculture
DESCRIPTION:[ Atelier Jardinière autonome ] \n  \nEnvie d’avoir un jardin en ville ? Mais vous manquez de place … On a l’atelier qu’il vous faut ! \n  \n🌱Avec Anne Calendras de Passer Pour Elle\, on vous a organisé le 10 juin\, un atelier de fabrication d’une jardinière autonome de 16h à 18h. \n  \nUne jardinière autonome\, qu’est-ce que c’est ? \n🌱Les jardinières autonomes dites « wicking bed » sont des systèmes de culture économes en eau. Elles  permettent de mettre en place une culture dans un contexte urbain (sols goudronnés)\, dans un manque de place (balcons)\, avec peu d’irrigation.\n \n🌱Un wicking bed se compose d’un premier étage où sont posées des billes d’argile qui vont stocker l’eau et permettre à la plante de s’alimenter en eau quand elle en a besoin. En effet\, l’eau stockée va permettre à la terre de rester humide entre 1 et 3 semaines. \n  \nTentez ? Inscrivez-vous sur ce lien pour être sûr de pouvoir participer à cet atelier\, les places sont limitées ! \nVous pouvez poser toutes vos questions par mail à Anne\, passerparelle@gmail.com \nVous aurez la chance de repartir avec votre jardinière et un plant de tomate ! 🍅 \n  \nOn se retrouve là bas 😉 \nCarole & Aline
URL:https://epicerie-lessentielle.fr/event/atelier-jardiniere-autonome-permaculture/
LOCATION:L’Essentielle\, 48 Avenue Lacassagne\, LYON\, 69003\, France
CATEGORIES:Atelier
ORGANIZER;CN="Passer Par Elle":MAILTO:passerparelle@gmail.com
END:VEVENT
BEGIN:VEVENT
DTSTART;TZID=UTC:20230614T103000
DTEND;TZID=UTC:20230614T120000
DTSTAMP:20260422T122732
CREATED:20230511T142631Z
LAST-MODIFIED:20230913T093238Z
UID:1705-1686738600-1686744000@epicerie-lessentielle.fr
SUMMARY:Atelier créatif - Mon tableau de famille
DESCRIPTION:Atelier en duo  Adulte-Enfant (4-10 ans) \n👨‍👧Le mois de juin est un mois riche en fêtes et en occasion de faire plaisir à ceux que l’on aime…. : Fête des Mères\, Fête des Pères\,… ! \n👩‍👧Et si cette année\, vous veniez\, tout simplement\, célébrer votre Famille\, en passant un moment complice tous ensemble ?\n👨‍👧Venez profiter d’un atelier créatif\, pendant lequel\, vous pourrez\, ensemble\, réaliser une Carte originale et personnalisée de votre Famille !\n👩‍👧Un atelier qui associe créativité\, motricité fine dans une ambiance bienveillante et conviviale pour profiter d’un moment de partage en famille\, loin des écrans et des contraintes de la maison. \n  \n👨‍👧Pour toutes informations et/ ou pour s’inscrire (car c’est obligatoire)\, vous pouvez contacter Claire par mail : aujoyeuxbazardeclaire@gmail.com et par téléphone : 06.84.00.84.29 \n👩‍👧Et même la contacter sur ses réseaux sociaux\, instagram\, et facebook ou sur son site web ! \n  \nTarif atelier :\n16€ / duo (adulte-1 enfant)\n28€ / trio (adulte – 2 enfants) \n  \nOn a hâte de vous accueillir ! \nCarole & Aline \n 
URL:https://epicerie-lessentielle.fr/event/atelier-creatif-mon-tableau-de-famille/
LOCATION:L’Essentielle\, 48 Avenue Lacassagne\, LYON\, 69003\, France
CATEGORIES:Atelier,Enfant
ORGANIZER;CN="Au Joyeux Bazar de Claire":MAILTO:aujoyeuxbazardeclaire@gmail.com
END:VEVENT
BEGIN:VEVENT
DTSTART;TZID=UTC:20230624T110000
DTEND;TZID=UTC:20230624T110000
DTSTAMP:20260422T122732
CREATED:20230327T130150Z
LAST-MODIFIED:20230913T093228Z
UID:1544-1687604400-1687604400@epicerie-lessentielle.fr
SUMMARY:Atelier DIY Crème de jour personnalisée
DESCRIPTION:Atelier cosmétique maison DIY avec  CosmEthik d’Elise\n\n\n\nNous vous proposons de confectionner une brume tonique et une crème de jour personnalisée. \nAu programme de cet atelier: \n🌺 Découverte de la technique de l’émulsion et des différents ingrédients utilisés : huiles végétales\, hydrolats\, actifs cosmétiques et fragrances… \n🌺 Réalisation d’une brume tonique qui redonne éclat à votre peau et la purifie. \n🌺 Réalisation de votre crème de jour. Vous pourrez choisir l’huile végétale\, l’eau florale et l’actif cosmétique qui convient le mieux à votre peau. \nRepartez avec vos soins 100% personnalisés que vous aurez vous-même réalisés\, mais aussi des conseils et des recettes ! \n  \n  \nPour réserver\, dirigez vous vers ce lien \n– Règlement sur place en chèque ou espèces. \nUne confirmation quelques jours avant l’atelier vous sera envoyé (n’hésitez pas à consulter vos spams si ce n’est pas le cas). \n\n\n  \nPour toutes autres informations → contact@cosmethikdelise.fr \nA bientôt ! \nCarole & Aline
URL:https://epicerie-lessentielle.fr/event/atelier-diy-creme-de-jour-personnalisee/
LOCATION:L’Essentielle\, 48 Avenue Lacassagne\, LYON\, 69003\, France
CATEGORIES:Atelier,Cosmétique
ORGANIZER;CN="CosmEthik d'Elise":MAILTO:contact@cosmethikdelise.fr
END:VEVENT
BEGIN:VEVENT
DTSTART;TZID=UTC:20230628T151000
DTEND;TZID=UTC:20230628T161000
DTSTAMP:20260422T122732
CREATED:20230610T165334Z
LAST-MODIFIED:20230913T093211Z
UID:1772-1687965000-1687968600@epicerie-lessentielle.fr
SUMMARY:Atelier Comprendre la Vie du Sol - Session 1
DESCRIPTION:Lombrics\, collemboles\, porcélions…\nEtes-vous familiers avec ces discrets ingénieurs qui entretiennent notre sol gratuitement et sans relâche ?\nConnaître leurs rôles dans la qualité et la fertilité du sol\, c’est comprendre les processus naturels à la base du vivant. \nClément\, passionné par le monde vivant de nos sols et le lombricompostage\, vous propose un atelier alliant théorie et pratique dans un jardin partagé du quartier. \nAu programme :\n– survol de la structure et de la vie du sol\n– compréhension des phénomènes de bioturbation\, de renaturation et de décomposition de la matière organique par la micro-faune \nEn s’intéressant aux interactions d’un sol vivant\, on observe et comprend de nombreuse interdépendances :\n– on apprend à dynamiser l’activité de la faune en utilisant des bio-déchets disponible en ville\n– on apprend à identifier et utiliser une ressource qui est le plus souvent ignorée ou gaspillée\n– on obtient des végétaux résilients et forts \nInformations et réservations : Clément GRASSOT – 06 32 32 36 66\nTarif : 7€\, à régler directement sur place
URL:https://epicerie-lessentielle.fr/event/atelier-comprendre-la-vie-du-sol/
LOCATION:L’Essentielle\, 48 Avenue Lacassagne\, LYON\, 69003\, France
CATEGORIES:Atelier,Cours
END:VEVENT
BEGIN:VEVENT
DTSTART;TZID=UTC:20230628T173000
DTEND;TZID=UTC:20230628T190000
DTSTAMP:20260422T122732
CREATED:20230513T101037Z
LAST-MODIFIED:20230513T101409Z
UID:1720-1687973400-1687978800@epicerie-lessentielle.fr
SUMMARY:Atelier - Création d'un terrarium DIY
DESCRIPTION:[ Atelier création de Terrarium ] \n🌱Envie d’avoir une plante mais vous n’avez pas la main verte !? \n  \n🌱Avec terra verde creation\, on vous propose mercredi 28 juin de 17h30 à 19h\, de créer votre propre terrarium à l’épicerie. \n  \n🌱Un terrarium\, qu’est-ce que c’est ? \nUn terrarium est un milieu naturel confiné\, le plus souvent dans un bocal en verre\, et dans lequel vont pouvoir se développer des espèces végétales comme des plantes tropicales ou des plantes grasses. L’avantage est que les plantes des terrariums ne demandent aucun entretien de votre part. \n  \n🌱Pour cet atelier vous allez pouvoir créer votre terrarium dans des bocaux de récupération que nous avons choisie à l’épicerie\, ce qui le rend encore plus écologique 😉 \n  \nAccessible aux adultes comme aux enfants\, le prix est de 12€ par personne ! En plus de cela vous repartez avec votre création ! \n  \n!! Pour pouvoir y participer\, il est nécessaire de payer en avance directement à l’épicerie\, c’est à ce moment-là que l’on vous inscrit ! \n(Il n’y a que 8 places\, alors n’hésitez pas) \n  \nOn se retrouve à l’épicerie 😉 \nCarole et Aline
URL:https://epicerie-lessentielle.fr/event/atelier-creation-dun-terrarium-diy/
LOCATION:L’Essentielle\, 48 Avenue Lacassagne\, LYON\, 69003\, France
CATEGORIES:Atelier
ORGANIZER;CN="Terra Verde Cr%C3%A9ation":MAILTO:estelle.mazzola@yahoo.fr
END:VEVENT
BEGIN:VEVENT
DTSTART;TZID=UTC:20230630T151000
DTEND;TZID=UTC:20230630T161000
DTSTAMP:20260422T122732
CREATED:20230610T165801Z
LAST-MODIFIED:20230913T093201Z
UID:1776-1688137800-1688141400@epicerie-lessentielle.fr
SUMMARY:Atelier Comprendre la Vie du Sol - Session 2
DESCRIPTION:Lombrics\, collemboles\, porcélions…\nEtes-vous familiers avec ces discrets ingénieurs qui entretiennent notre sol gratuitement et sans relâche ?\nConnaître leurs rôles dans la qualité et la fertilité du sol\, c’est comprendre les processus naturels à la base du vivant. \nClément\, passionné par le monde vivant de nos sols et le lombricompostage\, vous propose un atelier alliant théorie et pratique dans un jardin partagé du quartier. \nAu programme :\n– survol de la structure et de la vie du sol\n– compréhension des phénomènes de bioturbation\, de renaturation et de décomposition de la matière organique par la micro-faune \nEn s’intéressant aux interactions d’un sol vivant\, on observe et comprend de nombreuse interdépendances :\n– on apprend à dynamiser l’activité de la faune en utilisant des bio-déchets disponible en ville\n– on apprend à identifier et utiliser une ressource qui est le plus souvent ignorée ou gaspillée\n– on obtient des végétaux résilients et forts \nInformations et réservations : Clément GRASSOT – 06 32 32 36 66\nTarif : 7€\, à régler directement sur place
URL:https://epicerie-lessentielle.fr/event/atelier-comprendre-la-vie-du-sol-2/
LOCATION:L’Essentielle\, 48 Avenue Lacassagne\, LYON\, 69003\, France
CATEGORIES:Atelier,Cours
END:VEVENT
END:VCALENDAR