BEGIN:VCALENDAR
VERSION:2.0
PRODID:-//L&#039;essentielle - ECPv6.15.20//NONSGML v1.0//EN
CALSCALE:GREGORIAN
METHOD:PUBLISH
X-WR-CALNAME:L&#039;essentielle
X-ORIGINAL-URL:https://epicerie-lessentielle.fr
X-WR-CALDESC:Évènements pour L&#039;essentielle
REFRESH-INTERVAL;VALUE=DURATION:PT1H
X-Robots-Tag:noindex
X-PUBLISHED-TTL:PT1H
BEGIN:VTIMEZONE
TZID:UTC
BEGIN:STANDARD
TZOFFSETFROM:+0000
TZOFFSETTO:+0000
TZNAME:UTC
DTSTART:20240101T000000
END:STANDARD
END:VTIMEZONE
BEGIN:VEVENT
DTSTART;TZID=UTC:20250312T150000
DTEND;TZID=UTC:20250312T163000
DTSTAMP:20260421T162039
CREATED:20250201T102632Z
LAST-MODIFIED:20250206T153023Z
UID:2658-1741791600-1741797000@epicerie-lessentielle.fr
SUMMARY:Petits bobos\, grands tracas : les solutions naturelles pour mon enfant
DESCRIPTION:Infirmière puéricultrice depuis 10 ans et naturopathe avec une approche naturelle de la santé et bienveillante de la parentalité\, Ngoc Lan CHAU a créé :\n« La Parenthèse naturelle »\, des ateliers collectifs à Lyon pour offrir un espace d’écoute et de conseils concrets à petits prix.\n\nAu sujet de l’atelier : Ton enfant a des nuits agitées\, des petits maux de ventre ou des rougeurs ? Viens découvrir des solutions naturelles sûres et efficaces pour le soulager. Alimentation\, huiles essentielles\, plantes\, massages… Repars avec des astuces pratiques et des recettes DIY à tester chez toi !\n📅 12 Mars de 15h à 16h30\n💰 15 euros\n\n📩 Infos & inscriptions :\n07 75 73 16 79\nnaturo.accompagnante@gmail.com\nSite internet : https://www.lili-naturo-accompagnante.fr/ \n\nInstagram : @naturo_accompagnante
URL:https://epicerie-lessentielle.fr/event/petits-bobos-grands-tracas-les-solutions-naturelles-pour-mon-enfant/
LOCATION:L’Essentielle\, 48 Avenue Lacassagne\, LYON\, 69003\, France
CATEGORIES:Atelier,Enfant
ORGANIZER;CN="Lili Naturo Accompagnante":MAILTO:naturo.accompagante@gmail.com
END:VEVENT
END:VCALENDAR