BEGIN:VCALENDAR
VERSION:2.0
PRODID:-//L&#039;essentielle - ECPv6.15.20//NONSGML v1.0//EN
CALSCALE:GREGORIAN
METHOD:PUBLISH
X-WR-CALNAME:L&#039;essentielle
X-ORIGINAL-URL:https://epicerie-lessentielle.fr
X-WR-CALDESC:Évènements pour L&#039;essentielle
REFRESH-INTERVAL;VALUE=DURATION:PT1H
X-Robots-Tag:noindex
X-PUBLISHED-TTL:PT1H
BEGIN:VTIMEZONE
TZID:UTC
BEGIN:STANDARD
TZOFFSETFROM:+0000
TZOFFSETTO:+0000
TZNAME:UTC
DTSTART:20240101T000000
END:STANDARD
END:VTIMEZONE
BEGIN:VEVENT
DTSTART;TZID=UTC:20250904T173000
DTEND;TZID=UTC:20250904T190000
DTSTAMP:20260422T035432
CREATED:20250723T154820Z
LAST-MODIFIED:20250829T132406Z
UID:2919-1757007000-1757012400@epicerie-lessentielle.fr
SUMMARY:Initiez-vous à la savonnerie artisanale
DESCRIPTION:Élise vous invite à découvrir les bases de la saponification à froid lors d’un atelier d’1h30 à l’épicerie L’Essentielle. \nLe temps d’une initiation accessible à toutes et tous\, vous fabriquerez votre propre pain de savon\, à partir d’ingrédients biologiques et végétals. Chaque savon est unique\, à votre image. \nÉlise vous présentera les étapes clés de la fabrication\, puis vous guidera pas à pas : pesée\, mélange\, coulage… le tout dans une ambiance conviviale\, propice aux échanges. Vous repartez avec votre création\, prête à sécher tranquillement chez vous. \nUn moment simple\, créatif et engagé pour découvrir l’univers du savon naturel\, doux pour la peau comme pour la planète.
URL:https://epicerie-lessentielle.fr/event/initiez-vous-a-la-savonnerie-artisanale/
LOCATION:L’Essentielle\, 48 Avenue Lacassagne\, LYON\, 69003\, France
CATEGORIES:Atelier,Cosmétique
ORGANIZER;CN="Savonnerie Elise":MAILTO:savonnerie.elise@gmail.com
END:VEVENT
BEGIN:VEVENT
DTSTART;TZID=UTC:20250913T163000
DTEND;TZID=UTC:20250913T180000
DTSTAMP:20260422T035432
CREATED:20250901T221253Z
LAST-MODIFIED:20250902T142833Z
UID:2946-1757781000-1757786400@epicerie-lessentielle.fr
SUMMARY:Se libérer de ses blocages émotionnels --> reporté au 26/9
DESCRIPTION:Nous avons tous\, à un moment ou un autre\, ressenti cette sensation de ne pas oser\, de surréagir à certaines situations\, de se sentir seul.e même entouré.e\, de se sentir angoissé.e sans raison apparente\, comme si des mécanismes inconscients ou blocages émotionnels agissaient en nous à notre insu.\n\nBonne nouvelle : il existe des moyens simples et naturels pour se libérer de blocages en douceur. \n La Psycho-Bio-Acupressure (PBA) en fait partie :\n Une approche pour tous\, adultes\, enfants\, bébés\, personnes sensibles\n Nul besoin de revivre la douleur émotionnelle pour se libérer\n Une méthode sans avoir à rechercher l’origine des blocages \nSylvie vous invite à une conférence interactive où vous explorerez ensemble ces blocages\, leurs causes et comment s’en libérer pour avancer plus librement. \n Samedi 13 septembre 2025\n L’Essentielle – Lyon 3\n 16h30 – 18h00\n  Participation libre\n  Infos & inscriptions : contactez Sylvie au 06 68 16 78 68
URL:https://epicerie-lessentielle.fr/event/se-liberer-de-ses-blocages-emotionnels-3/
LOCATION:L’Essentielle\, 48 Avenue Lacassagne\, LYON\, 69003\, France
CATEGORIES:Atelier,Bien-être
ORGANIZER;CN="Sylvie Chevron":MAILTO:chevron_sylvie@yahoo.fr
END:VEVENT
END:VCALENDAR