BEGIN:VCALENDAR
VERSION:2.0
PRODID:-//L&#039;essentielle - ECPv6.15.20//NONSGML v1.0//EN
CALSCALE:GREGORIAN
METHOD:PUBLISH
X-WR-CALNAME:L&#039;essentielle
X-ORIGINAL-URL:https://epicerie-lessentielle.fr
X-WR-CALDESC:Évènements pour L&#039;essentielle
REFRESH-INTERVAL;VALUE=DURATION:PT1H
X-Robots-Tag:noindex
X-PUBLISHED-TTL:PT1H
BEGIN:VTIMEZONE
TZID:UTC
BEGIN:STANDARD
TZOFFSETFROM:+0000
TZOFFSETTO:+0000
TZNAME:UTC
DTSTART:20220101T000000
END:STANDARD
END:VTIMEZONE
BEGIN:VEVENT
DTSTART;TZID=UTC:20230603T151500
DTEND;TZID=UTC:20230603T161500
DTSTAMP:20260424T132144
CREATED:20230517T084832Z
LAST-MODIFIED:20230913T093633Z
UID:1725-1685805300-1685808900@epicerie-lessentielle.fr
SUMMARY:Atelier Sophro'détente
DESCRIPTION:Envie de se détendre\, de faire une pause !\n\n\n\n😇 Delphine vous propose une séance collective de sophrologie\, pendant une séance d’1 heure\, découvrez des exercices de sophrologie simples pour vous reconnecter à vous-même\, vous protéger du stress ambiant et vous libérer de la charge mentale engendrée par les crises sociétales que nous traversons.\n\n😇 Rendez-vous Samedi 03 juin à 15h15 dans la salle détente de l’épicerie\, située dans l’arrière boutique ! Rien de mieux que d’avoir un petit temps pour soi\, pour se ressourcer !\n\n\n\n\n\n\n😇 Pour vous inscrire\, envoyez simplement « sophro’détente » par sms au 07.79.59.94.47 ou par email à dlemarie@equilibrom.fr. Dépêchez-vous le nombre de place est limité !\n\n\n\n\n\nA bientôt\,\nCarole & Aline
URL:https://epicerie-lessentielle.fr/event/atelier-sophrodetente/
LOCATION:L’Essentielle\, 48 Avenue Lacassagne\, LYON\, 69003\, France
CATEGORIES:Atelier,Sophrologie
END:VEVENT
END:VCALENDAR