BEGIN:VCALENDAR
VERSION:2.0
PRODID:-//L&#039;essentielle - ECPv6.15.20//NONSGML v1.0//EN
CALSCALE:GREGORIAN
METHOD:PUBLISH
X-ORIGINAL-URL:https://epicerie-lessentielle.fr
X-WR-CALDESC:Évènements pour L&#039;essentielle
REFRESH-INTERVAL;VALUE=DURATION:PT1H
X-Robots-Tag:noindex
X-PUBLISHED-TTL:PT1H
BEGIN:VTIMEZONE
TZID:UTC
BEGIN:STANDARD
TZOFFSETFROM:+0000
TZOFFSETTO:+0000
TZNAME:UTC
DTSTART:20220101T000000
END:STANDARD
END:VTIMEZONE
BEGIN:VEVENT
DTSTART;TZID=UTC:20230719T153000
DTEND;TZID=UTC:20230719T173000
DTSTAMP:20260424T094217
CREATED:20230630T150615Z
LAST-MODIFIED:20230913T093113Z
UID:1794-1689780600-1689787800@epicerie-lessentielle.fr
SUMMARY:Atelier cosmétique DIY : spécial soins pour l'été
DESCRIPTION:Venez réaliser 3 cosmétiques naturels pour prendre soin de votre peau durant l’été avec Elise de CosmEthik d’Elise. \nApprenez à réaliser: \n🌷 une huile sèche pailletée pour nourrir et assouplir votre peau. Elle s’utilise pour le corps\, le visage et même les cheveux \n🌷 un baume prolongateur de bronzage grâce à l’urucum qui prépare la peau à l’exposition au soleil grâce à ses qualités antioxydantes protectrices et à ses propriétés « bonne mine » \n🌷 un soin réparateur après soleil qui va hydrater et apaiser votre peau \n3 soins pour vous chouchouter durant cet été !!! \n6 places disponibles pour cet atelier. Réservation obligatoire en ligne : https://calendly.com/eliselebaube/atelier-cosmetique-diy-special-soins-pour-l-ete \nPour toute question\, vous pouvez contacter Elise à contact@cosmethikdelise.fr
URL:https://epicerie-lessentielle.fr/event/atelier-cosmetique-diy-special-soins-pour-lete/
LOCATION:L’Essentielle\, 48 Avenue Lacassagne\, LYON\, 69003\, France
CATEGORIES:Atelier,Cosmétique
ORGANIZER;CN="CosmEthik d'Elise":MAILTO:contact@cosmethikdelise.fr
END:VEVENT
END:VCALENDAR