BEGIN:VCALENDAR
VERSION:2.0
PRODID:-//L&#039;essentielle - ECPv6.15.20//NONSGML v1.0//EN
CALSCALE:GREGORIAN
METHOD:PUBLISH
X-ORIGINAL-URL:https://epicerie-lessentielle.fr
X-WR-CALDESC:Évènements pour L&#039;essentielle
REFRESH-INTERVAL;VALUE=DURATION:PT1H
X-Robots-Tag:noindex
X-PUBLISHED-TTL:PT1H
BEGIN:VTIMEZONE
TZID:UTC
BEGIN:STANDARD
TZOFFSETFROM:+0000
TZOFFSETTO:+0000
TZNAME:UTC
DTSTART:20220101T000000
END:STANDARD
END:VTIMEZONE
BEGIN:VEVENT
DTSTART;TZID=UTC:20230923T103000
DTEND;TZID=UTC:20230923T123000
DTSTAMP:20260420T192005
CREATED:20230725T144432Z
LAST-MODIFIED:20230913T093058Z
UID:1814-1695465000-1695472200@epicerie-lessentielle.fr
SUMMARY:Atelier DIY crème de jour et brume tonique
DESCRIPTION:Atelier cosmétique maison DIY \nConfection d’une brume tonique et d’une crème de jour personnalisée. \nAu programme de cet atelier: \n🌺 Découverte de la technique de l’émulsion et des différents ingrédients utilisés: huiles végétales\, hydrolats\, actifs cosmétiques et fragrances… \n🌺 Réalisation d’une brume tonique qui redonne éclat à votre peau et la purifie. \n🌺 Réalisation de votre crème de jour. Vous pourrez choisir l’huile végétale\, l’eau florale et l’actif cosmétique qui convient le mieux à votre peau. \nRepartez avec 2 soins 100% personnalisés que vous aurez vous-même réalisés\, des conseils et la recette! \n6 places disponibles pour cet atelier. \nRéservation obligatoire en ligne (https://calendly.com/eliselebaube/atelier-cosmetique-2-soins-visage-essentielle) : Prix : 45€. \nUne confirmation quelques jours avant l’atelier vous serez envoyé (n’hésitez pas à consulter vos spams si ce n’est pas le cas). \nPour plus d’informations n’hésitez pas à contacter Elise à contact@cosmethikdelise.fr
URL:https://epicerie-lessentielle.fr/event/atelier-diy-creme-de-jour-et-brume-tonique/
LOCATION:L’Essentielle\, 48 Avenue Lacassagne\, LYON\, 69003\, France
CATEGORIES:Atelier,Cosmétique
ORGANIZER;CN="CosmEthik d'Elise":MAILTO:contact@cosmethikdelise.fr
END:VEVENT
END:VCALENDAR