BEGIN:VCALENDAR
VERSION:2.0
PRODID:-//L&#039;essentielle - ECPv6.15.20//NONSGML v1.0//EN
CALSCALE:GREGORIAN
METHOD:PUBLISH
X-WR-CALNAME:L&#039;essentielle
X-ORIGINAL-URL:https://epicerie-lessentielle.fr
X-WR-CALDESC:Évènements pour L&#039;essentielle
REFRESH-INTERVAL;VALUE=DURATION:PT1H
X-Robots-Tag:noindex
X-PUBLISHED-TTL:PT1H
BEGIN:VTIMEZONE
TZID:UTC
BEGIN:STANDARD
TZOFFSETFROM:+0000
TZOFFSETTO:+0000
TZNAME:UTC
DTSTART:20240101T000000
END:STANDARD
END:VTIMEZONE
BEGIN:VEVENT
DTSTART;TZID=UTC:20250705T110000
DTEND;TZID=UTC:20250705T120000
DTSTAMP:20260421T234454
CREATED:20250619T092635Z
LAST-MODIFIED:20250620T085430Z
UID:2862-1751713200-1751716800@epicerie-lessentielle.fr
SUMMARY:Réaliser son baume d'été
DESCRIPTION:Dans cet atelier\, vous apprendrez à connaitre les plantes à cueillir cet été et vous réaliserez un baume pour passer un été serein : coupure\, brulure\, piqure… C’est LE baume à avoir toujours sur soi ! \nÀ glisser dans sa poche et dans la trousse à pharmacie de cet été… ! \n Le samedi 5 juillet à 11h\n 1h\n 6 places disponibles\n Chez L’essentielle (Lyon 3)\n Arrêt Arrêt Dauphiné-Lacassagne – Tram T3 – Bus C13 – Bus C16 \nPRIX : 25€
URL:https://epicerie-lessentielle.fr/event/realiser-son-baume-dete/
LOCATION:L’Essentielle\, 48 Avenue Lacassagne\, LYON\, 69003\, France
CATEGORIES:Atelier
ORGANIZER;CN="Laure Guignard":MAILTO:lguignard.naturopathe@gmail.com
END:VEVENT
END:VCALENDAR