BEGIN:VCALENDAR
VERSION:2.0
PRODID:-//L&#039;essentielle - ECPv6.15.20//NONSGML v1.0//EN
CALSCALE:GREGORIAN
METHOD:PUBLISH
X-WR-CALNAME:L&#039;essentielle
X-ORIGINAL-URL:https://epicerie-lessentielle.fr
X-WR-CALDESC:Évènements pour L&#039;essentielle
REFRESH-INTERVAL;VALUE=DURATION:PT1H
X-Robots-Tag:noindex
X-PUBLISHED-TTL:PT1H
BEGIN:VTIMEZONE
TZID:UTC
BEGIN:STANDARD
TZOFFSETFROM:+0000
TZOFFSETTO:+0000
TZNAME:UTC
DTSTART:20240101T000000
END:STANDARD
END:VTIMEZONE
BEGIN:VEVENT
DTSTART;TZID=UTC:20251018T100000
DTEND;TZID=UTC:20251018T113000
DTSTAMP:20260424T145444
CREATED:20250918T153307Z
LAST-MODIFIED:20251011T091702Z
UID:2976-1760781600-1760787000@epicerie-lessentielle.fr
SUMMARY:Atelier sophro "Image et estime de soi"
DESCRIPTION:Valérie\, diététicienne comportementaliste et sophrologue\, vous propose un cycle de 3 ateliers de sophrologie autour du thème « Je me reconnecte à mon corps ». \nDans un petit groupe convivial\, venez pratiquer la sophrologie : basée sur des techniques de respiration\, de détente musculaire et de visualisation\, cette approche psychocorporelle permet de mieux accéder à ses propres ressources. \nLa sophrologie se pratique dans une tenue de ville confortable\, debout et/ou assis\, éventuellement déchaussé. \nL’atelier de ce jour consiste en une présentation pédagogique et interactive du thème de l’image et de l’estime de soi\, suivi d’une séance de sophrologie. \nL’atelier est accessible aux débutants. Chaque atelier du cycle peut être suivi séparément\, vous pouvez donc participer à un ou plusieurs ateliers du cycle. \nTarif : 20€ pour un atelier\, 50€ pour le cycle complet (3 ateliers)
URL:https://epicerie-lessentielle.fr/event/atelier-image-et-estime-de-soi/
LOCATION:L’Essentielle\, 48 Avenue Lacassagne\, LYON\, 69003\, France
CATEGORIES:Atelier,Bien-être,Sophrologie
ORGANIZER;CN="Val%C3%A9rie OERTEL":MAILTO:vodietnutri@gmail.com
END:VEVENT
BEGIN:VEVENT
DTSTART;TZID=UTC:20251018T160000
DTEND;TZID=UTC:20251018T180000
DTSTAMP:20260424T145444
CREATED:20251009T085847Z
LAST-MODIFIED:20251009T142754Z
UID:3026-1760803200-1760810400@epicerie-lessentielle.fr
SUMMARY:Atelier carterie personnalisée
DESCRIPTION:Vous souhaitez créer votre propre carte unique (ou plusieurs il y a du temps pour se gâter) ? Maitriser le tamponnage vous fait rêver ? Le gaufrage vous fait de l’oeil ? Et manier le pistolet chauffant est tout en haut de votre liste ? Ne cherchez plus\, cet atelier est fait pour vous !\n\nNadège vous propose 2h rien que pour créer\, s’amuser et un peu se salir les mains en petits groupes pour partager\, papoter et faire des rencontres. De l’encre\, des rires et beaucoup de fierté.\n\nEt on n’oubliez pas\, tout le mois d’octobre : 10% du montant de chaque billet sera reversé à l’association Ruban Rose pour la recherche contre le cancer du sein.\n\nRéservation obligatoire mais paiement sur place (chèque\, espèces ou paiement mobile)\nhttps://www.billetweb.fr/atelier-creatif34\nTarifs : 50€ (45€ pour les early birds et 35€ solidaire)\nOffre DUO (-10€) ou TRIO (-15€)
URL:https://epicerie-lessentielle.fr/event/atelier-carterie/
LOCATION:L’Essentielle\, 48 Avenue Lacassagne\, LYON\, 69003\, France
CATEGORIES:Arts créatifs,Atelier
ORGANIZER;CN="Murmures d'Ame":MAILTO:ateliers@murmuresdame.fr
END:VEVENT
END:VCALENDAR