BEGIN:VCALENDAR
VERSION:2.0
PRODID:-//L&#039;essentielle - ECPv6.15.20//NONSGML v1.0//EN
CALSCALE:GREGORIAN
METHOD:PUBLISH
X-ORIGINAL-URL:https://epicerie-lessentielle.fr
X-WR-CALDESC:Évènements pour L&#039;essentielle
REFRESH-INTERVAL;VALUE=DURATION:PT1H
X-Robots-Tag:noindex
X-PUBLISHED-TTL:PT1H
BEGIN:VTIMEZONE
TZID:UTC
BEGIN:STANDARD
TZOFFSETFROM:+0000
TZOFFSETTO:+0000
TZNAME:UTC
DTSTART:20240101T000000
END:STANDARD
END:VTIMEZONE
BEGIN:VEVENT
DTSTART;TZID=UTC:20251030T173000
DTEND;TZID=UTC:20251030T190000
DTSTAMP:20260424T165900
CREATED:20251014T102857Z
LAST-MODIFIED:20251017T152945Z
UID:3051-1761845400-1761850800@epicerie-lessentielle.fr
SUMMARY:Atelier Gonette : le jeu de la monnaie
DESCRIPTION:Tout comprendre aux échanges économiques (ou presque) juste avec un jeu de cartes ! \nÀ partir d’un simple jeu de cartes\, les participant.es vont tester différents modèles d’échanges économiques et questionner leurs effets sur la production globale de richesses dans une société. \nCet atelier ludique\, basé sur une mécanique de jeu simple\, vise à planter la graine du questionnement des formes monétaires et de leurs finalités. \nGratuit\, participatif et animé par l’équipe de bénévoles de la Gonette\, cette atelier est accessible sans prérequis et pensé pour nourrir la curiosité\, éveiller l’esprit critique et cultiver le pouvoir d’agir. \n \n 
URL:https://epicerie-lessentielle.fr/event/atelier-gonette-jeu-de-la-monnaie/
LOCATION:L’Essentielle\, 48 Avenue Lacassagne\, LYON\, 69003\, France
CATEGORIES:Atelier,Gonette
ORGANIZER;CN="La Gonette":MAILTO:co@lagonette.org
END:VEVENT
END:VCALENDAR