BEGIN:VCALENDAR
VERSION:2.0
PRODID:-//L&#039;essentielle - ECPv6.15.20//NONSGML v1.0//EN
CALSCALE:GREGORIAN
METHOD:PUBLISH
X-WR-CALNAME:L&#039;essentielle
X-ORIGINAL-URL:https://epicerie-lessentielle.fr
X-WR-CALDESC:Évènements pour L&#039;essentielle
REFRESH-INTERVAL;VALUE=DURATION:PT1H
X-Robots-Tag:noindex
X-PUBLISHED-TTL:PT1H
BEGIN:VTIMEZONE
TZID:UTC
BEGIN:STANDARD
TZOFFSETFROM:+0000
TZOFFSETTO:+0000
TZNAME:UTC
DTSTART:20240101T000000
END:STANDARD
END:VTIMEZONE
BEGIN:VEVENT
DTSTART;VALUE=DATE:20250501
DTEND;VALUE=DATE:20250504
DTSTAMP:20260423T171538
CREATED:20250422T150148Z
LAST-MODIFIED:20250422T151111Z
UID:2745-1746057600-1746316799@epicerie-lessentielle.fr
SUMMARY:Fermeture 1\, 2 et 3 mai
DESCRIPTION:L’épicerie sera fermée pour le pont du 1er mai\, du jeudi 1 au samedi 3 mai inclus
URL:https://epicerie-lessentielle.fr/event/fermeture-1-2-et-3-mai/
LOCATION:L’Essentielle\, 48 Avenue Lacassagne\, LYON\, 69003\, France
CATEGORIES:Fermeture
END:VEVENT
END:VCALENDAR