BEGIN:VCALENDAR
VERSION:2.0
PRODID:-//L&#039;essentielle - ECPv6.15.20//NONSGML v1.0//EN
CALSCALE:GREGORIAN
METHOD:PUBLISH
X-ORIGINAL-URL:https://epicerie-lessentielle.fr
X-WR-CALDESC:Évènements pour L&#039;essentielle
REFRESH-INTERVAL;VALUE=DURATION:PT1H
X-Robots-Tag:noindex
X-PUBLISHED-TTL:PT1H
BEGIN:VTIMEZONE
TZID:UTC
BEGIN:STANDARD
TZOFFSETFROM:+0000
TZOFFSETTO:+0000
TZNAME:UTC
DTSTART:20250101T000000
END:STANDARD
END:VTIMEZONE
BEGIN:VEVENT
DTSTART;VALUE=DATE:20260101
DTEND;VALUE=DATE:20260102
DTSTAMP:20260422T225735
CREATED:20251212T114837Z
LAST-MODIFIED:20251212T114837Z
UID:3125-1767225600-1767311999@epicerie-lessentielle.fr
SUMMARY:Jour férié
DESCRIPTION:L’épicerie sera fermée le 1er janvier ! \nBonne année 🙂 \nCarole\, Aline et Clotilde
URL:https://epicerie-lessentielle.fr/event/jour-ferie-5/
LOCATION:L’Essentielle\, 48 Avenue Lacassagne\, LYON\, 69003\, France
CATEGORIES:Fermeture
END:VEVENT
END:VCALENDAR