BEGIN:VCALENDAR
VERSION:2.0
PRODID:-//L&#039;essentielle - ECPv6.15.20//NONSGML v1.0//EN
CALSCALE:GREGORIAN
METHOD:PUBLISH
X-WR-CALNAME:L&#039;essentielle
X-ORIGINAL-URL:https://epicerie-lessentielle.fr
X-WR-CALDESC:Évènements pour L&#039;essentielle
REFRESH-INTERVAL;VALUE=DURATION:PT1H
X-Robots-Tag:noindex
X-PUBLISHED-TTL:PT1H
BEGIN:VTIMEZONE
TZID:UTC
BEGIN:STANDARD
TZOFFSETFROM:+0000
TZOFFSETTO:+0000
TZNAME:UTC
DTSTART:20210101T000000
END:STANDARD
END:VTIMEZONE
BEGIN:VEVENT
DTSTART;TZID=UTC:20220601T103000
DTEND;TZID=UTC:20220601T120000
DTSTAMP:20260423T182114
CREATED:20220519T151533Z
LAST-MODIFIED:20220519T151533Z
UID:1239-1654079400-1654084800@epicerie-lessentielle.fr
SUMMARY:Atelier Créatif "Instrument de Musique Récup"
DESCRIPTION:[ATELIER CREATIF ENFANTS] \n  \nNouvelle activité pour le mois de juin avec Claire\, animatrice créative ! \nLe mois de juin est synonyme d’amusement\, de danse et de chant avec la fête de la musique. Pour cette occasion quoi de mieux qu’une activité pour que vos enfants puissent créer leurs propres instruments de musique en matière de récup ?! \nRendez-vous à l’épicerie mercredi 1 juin de 10h30 à 12h pour passer un moment de convivialité et de bienveillance avec votre enfant. \nTarif : 16€ / duo (adulte – enfant) \n28€ / trio (adulte – 2 enfants) \n  \nPour toute info supplémentaire ou pour vous inscrire vous pouvez contacter Claire en MP ou par email : aujoyeuxbazardeclaire@gmail.com \n  \n  \n 
URL:https://epicerie-lessentielle.fr/event/atelier-creatif-instrument-de-musique-recup/
LOCATION:L’Essentielle\, 48 Avenue Lacassagne\, LYON\, 69003\, France
CATEGORIES:Atelier
ORGANIZER;CN="Au Joyeux Bazar de Claire":MAILTO:aujoyeuxbazardeclaire@gmail.com
END:VEVENT
BEGIN:VEVENT
DTSTART;TZID=UTC:20220602T173000
DTEND;TZID=UTC:20220602T183000
DTSTAMP:20260423T182114
CREATED:20220519T160529Z
LAST-MODIFIED:20220524T144604Z
UID:1245-1654191000-1654194600@epicerie-lessentielle.fr
SUMMARY:Découverte Naturopathie
DESCRIPTION:La naturopathie vous intéresse\, mais vous n’avez jamais sauté le pas ? C’est le moment ! \nNous vous proposons tous les premiers jeudis du mois une permanence naturopathe avec Claire Senelonge\, naturopathe\, neuroscientifique et réflexologue plantaire ! \n  \nLa naturopathie est une médecine naturelle prenant en compte votre nutrition\, votre physiologie et votre émotionnel. Le thérapeute est là pour vous aider dans une démarche de santé en prenant en compte ces trois aspects. L’objectif de vous aider à retrouver ou améliorer votre bien être de manière efficace et durable tout en respectant votre rythme. \n  \nRendez-vous le 2 juin à l’épicerie pour découvrir cette nouvelle activité\, vous pourrez poser vos questions à Claire pendant 15 min ! Alors n’hésitez pas et venez tester ! \nInscription par mail : claire.senelonge.naturopathe@gmail.com \n  \nCarole & Aline \n 
URL:https://epicerie-lessentielle.fr/event/consultation-naturopathie/
LOCATION:L’Essentielle\, 48 Avenue Lacassagne\, LYON\, 69003\, France
ORGANIZER;CN="Claire Senelonge":MAILTO:claire.senelonge.naturopathe@gmail.com
END:VEVENT
BEGIN:VEVENT
DTSTART;TZID=UTC:20220614T170000
DTEND;TZID=UTC:20220614T193000
DTSTAMP:20260423T182114
CREATED:20220524T134608Z
LAST-MODIFIED:20220524T134608Z
UID:1251-1655226000-1655235000@epicerie-lessentielle.fr
SUMMARY:Réflexologie Plantaire
DESCRIPTION:[REFLEXOLOGIE PLANTAIRE] \nNouvelle activité ! Une séance découverte de la Réflexologie Plantaire ! \nMais c’est quoi la réflexologie plantaire ? \nGrâce à un toucher spécifique au niveau des pieds\, cette technique naturelle vous apporte une détente profonde et soutient votre corps pour l’aider à rétablir son équilibre. \n  \nLa séance se déroulera mardi 14 juin de 17h à 19h30 à l’épicerie ! \nCéline Baudot\, réflexologue certifiée par l’Ecole des Techniques en Réflexologies Energisantes- agréée par la FFR. \n  \n  \nSéances individuelles de 30 min à 15€ pour adultes – 20 min pour les enfants (de 2 à 10 ans) à 5€. \nInscription au 06 18 58 07 28 ou par mail: cbaudot.reflexologie@yahoo.fr \n  \nVenez profiter de ce moment de détente seul ou en famille ! \n  \n 
URL:https://epicerie-lessentielle.fr/event/reflexologie-plantaire/
LOCATION:L’Essentielle\, 48 Avenue Lacassagne\, LYON\, 69003\, France
CATEGORIES:Réflexologie
END:VEVENT
BEGIN:VEVENT
DTSTART;TZID=UTC:20220616T181500
DTEND;TZID=UTC:20220616T191500
DTSTAMP:20260423T182114
CREATED:20220426T105914Z
LAST-MODIFIED:20220608T133624Z
UID:1187-1655403300-1655406900@epicerie-lessentielle.fr
SUMMARY:Conférence "Détox d'été"
DESCRIPTION:Détox d’été : préparer son corps à la période estivale  \n  \nUne conférence pour découvrir les besoins de votre organisme pour passer en douceur du printemps à l’été. Venez comprendre à quoi servent les cures de détox et pourquoi certaines sont plus adaptées à la période estivale. \n  \nLors de cette atelier\, Ludivine Génin\, naturopathe vous fera tester des techniques qui accompagnent parfaitement la détox d’été. \nRendez vous le jeudi 16 juin à 18h15 à l’épicerie ! \n  \n  \nTarif : 7€ (payable sur place) \nInscription : par mail: naturopathie@ludivinegenin.fr ou par sms: 0632502330 \n  \n 
URL:https://epicerie-lessentielle.fr/event/conference-detox-dete/
LOCATION:L’Essentielle\, 48 Avenue Lacassagne\, LYON\, 69003\, France
CATEGORIES:Atelier
ORGANIZER;CN="Ludivine G%C3%A9nin%2C naturopathe":MAILTO:naturopathie@ludivinegenin.fr
END:VEVENT
BEGIN:VEVENT
DTSTART;TZID=UTC:20220617T180000
DTEND;TZID=UTC:20220617T190000
DTSTAMP:20260423T182114
CREATED:20220426T130659Z
LAST-MODIFIED:20220608T133721Z
UID:1193-1655488800-1655492400@epicerie-lessentielle.fr
SUMMARY:Conférence "Détox d'été"
DESCRIPTION:Détox d’été : préparer son corps à la période estivale \n  \nUne conférence pour découvrir les besoins de votre organisme pour passer en douceur du printemps à l’été. Venez comprendre à quoi servent les cures de détox et pourquoi certaines sont plus adaptées à la période estivale. \n  \nLors de cette atelier\, Ludivine Génin\, naturopathe vous fera tester des techniques qui accompagnent parfaitement la détox d’été. \nRendez vous le vendredi 17 juin à 18h à l’épicerie ! \n  \n  \nTarif : 7€ (payable sur place) \nInscription : par mail: naturopathie@ludivinegenin.fr ou par sms: 0632502330 \n  \n 
URL:https://epicerie-lessentielle.fr/event/conference-detox-dete-2/
LOCATION:L’Essentielle\, 48 Avenue Lacassagne\, LYON\, 69003\, France
CATEGORIES:Conférence
ORGANIZER;CN="Ludivine G%C3%A9nin%2C naturopathe":MAILTO:naturopathie@ludivinegenin.fr
END:VEVENT
BEGIN:VEVENT
DTSTART;TZID=UTC:20220618T100000
DTEND;TZID=UTC:20220618T110000
DTSTAMP:20260423T182114
CREATED:20220608T133502Z
LAST-MODIFIED:20230913T093525Z
UID:1315-1655546400-1655550000@epicerie-lessentielle.fr
SUMMARY:Séance découverte "SOPHROLOGIE"
DESCRIPTION:[SOPHROLOGIE] \n  \nSéance collective pour découvrir la sophrologie à l’épicerie ! \n  \nDurant une heure vous pratiquerez des exercices pour vous connecter à votre respiration avec Delphine Lemarié\, praticienne sophrologue certifiée RNCP par l’Ecole Française Supérieure de Sophrologie. Elle vous aidera à détendre votre corps grâce des exercices de relâchement musculaire puis vous vous évaderez mentalement vers les vacances avec un exercice de visualisation positive. \nPour être bien dans votre tête et dans votre corps avant les vacances d’été ! \n  \nAlors nous vous attendez nombreux SAMEDI 18 JUIN de 10h à 11h dans la salle des ateliers située à l’arrière de l’épicerie. \n  \nPlaces limitées : 10 personnes maximum (10 premiers inscrits) \nPrix : 10€ par personne (paiement sur place en CB\, chèque ou espèces) \nInscription : envoyer simplement « sophro vacances » et vos coordonnées par email : dlemarie@equilibrom.fr ou par sms au 07.79.59.94.47 \nEquipement :  une bouteille d’eau pour s’hydrater et des chaussures confortables (sans talons). \n  \n  \n 
URL:https://epicerie-lessentielle.fr/event/seance-decouverte-sophrologie/
LOCATION:L’Essentielle\, 48 Avenue Lacassagne\, LYON\, 69003\, France
CATEGORIES:Atelier,Sophrologie
ORGANIZER;CN="Delphine Lemari%C3%A9%2C sophrologue":MAILTO:dlemarie@equilibrom.fr
END:VEVENT
END:VCALENDAR