BEGIN:VCALENDAR
VERSION:2.0
PRODID:-//L&#039;essentielle - ECPv6.15.20//NONSGML v1.0//EN
CALSCALE:GREGORIAN
METHOD:PUBLISH
X-ORIGINAL-URL:https://epicerie-lessentielle.fr
X-WR-CALDESC:Évènements pour L&#039;essentielle
REFRESH-INTERVAL;VALUE=DURATION:PT1H
X-Robots-Tag:noindex
X-PUBLISHED-TTL:PT1H
BEGIN:VTIMEZONE
TZID:UTC
BEGIN:STANDARD
TZOFFSETFROM:+0000
TZOFFSETTO:+0000
TZNAME:UTC
DTSTART:20210101T000000
END:STANDARD
END:VTIMEZONE
BEGIN:VEVENT
DTSTART;TZID=UTC:20221001T093000
DTEND;TZID=UTC:20221001T193000
DTSTAMP:20260419T202015
CREATED:20220911T213047Z
LAST-MODIFIED:20220921T094841Z
UID:1370-1664616600-1664652600@epicerie-lessentielle.fr
SUMMARY:Friperie Nomade
DESCRIPTION:La Friperie Nomade s’installe à l’Essentielle le samedi 1er octobre pour une vente éphémère !\n\n\n Créée par Tiffany\, la Friperie Nomade est une boutique ambulante de vêtements et d’accessoires de seconde main pour hommes et femmes. Son but est de proposer une économie circulaire avec des produits de qualités à des prix accessibles.\n\n\n Vous allez donc pouvoir chiner de jolies choses pour votre dressing\, tout en restant dans une démarche écoresponsable et sans vous ruiner !\n\n\n Tiffany installera tous ses portants dans la salle détente de l’épicerie. Une cabine d’essayage sera mise à disposition.\n\n\n On vous attend nombreux et nombreuses le 1er octobre toute la journée\, aux horaires habituels de la boutique.
URL:https://epicerie-lessentielle.fr/event/friperie-nomade/
LOCATION:L’Essentielle\, 48 Avenue Lacassagne\, LYON\, 69003\, France
CATEGORIES:Autre
ORGANIZER;CN="Friperie Nomade":MAILTO:lafriperienomade.ly@gmail.com
END:VEVENT
BEGIN:VEVENT
DTSTART;TZID=UTC:20221005T093000
DTEND;TZID=UTC:20221005T120000
DTSTAMP:20260419T202015
CREATED:20220911T213715Z
LAST-MODIFIED:20220911T213715Z
UID:1372-1664962200-1664971200@epicerie-lessentielle.fr
SUMMARY:Atelier Couches Lavables – GRATUIT
DESCRIPTION:👶 En partenariat avec la Métropole de Lyon et Éclaircie-conseil\, nous vous proposons un atelier collectif gratuit pour tout connaître sur les couches lavables !\n\n\n \n\n\n👶 Atelier pratique pour répondre à toutes vos questions et échange d’expériences + kit d’essai pour tester pendant un mois avec locacouche.\n\n\n \n\n\n👶 Samedi 3 septembre de 15h à 17h30\, dans la salle arrière de l’épicerie.\n\n\n \n\n\nRenseignements et inscription : https://eclaircie-conseil.com/?page_id=25\n\n\nhttp://atelierclinscription.eclaircie-conseil.com
URL:https://epicerie-lessentielle.fr/event/atelier-couches-lavables-gratuit/
LOCATION:L’Essentielle\, 48 Avenue Lacassagne\, LYON\, 69003\, France
CATEGORIES:Atelier
ORGANIZER;CN="Eclaircie Conseil":MAILTO:contact@eclaircie-conseil.com
END:VEVENT
BEGIN:VEVENT
DTSTART;TZID=UTC:20221015T103000
DTEND;TZID=UTC:20221015T113000
DTSTAMP:20260419T202015
CREATED:20221004T142726Z
LAST-MODIFIED:20230913T093605Z
UID:1387-1665829800-1665833400@epicerie-lessentielle.fr
SUMMARY:Séance découverte Sophrologie cocooning
DESCRIPTION:Séance collective cocooning pour découvrir la sophrologie à l’épicerie ! \nDurant une heure vous pratiquerez des exercices pour vous connecter à votre respiration avec Delphine Lemarié\, praticienne sophrologue certifiée RNCP par l’Ecole Française Supérieure de Sophrologie. Elle vous aidera à vous réchauffer le corps et l’esprit grâce à la sophrologie afin de se réconforter mentalement et capitaliser sur la chaleur corporelle pour être bien au chaud pour aborder l’hiver. \nPour être bien dans votre tête et dans votre corps pour affronter le froid ! \nAlors nous vous attendons nombreux SAMEDI 15 OCTOBRE de 10h30 à 11h30 dans la salle des ateliers située à l’arrière de l’épicerie. \nPlaces limitées : 8 personnes maximum (8 premiers inscrits) \nPrix : 10€ par personne (paiement sur place en CB\, chèque ou espèces) \nInscription : envoyer simplement « sophro hiver » et vos coordonnées par email : dlemarie@equilibrom.fr ou par sms au 07.79.59.94.47 \nEquipement : une bouteille d’eau pour s’hydrater et des chaussures confortables (sans talons).
URL:https://epicerie-lessentielle.fr/event/seance-decouverte-sophrologie-3/
LOCATION:L’Essentielle\, 48 Avenue Lacassagne\, LYON\, 69003\, France
CATEGORIES:Atelier,Sophrologie
END:VEVENT
BEGIN:VEVENT
DTSTART;TZID=UTC:20221021T150000
DTEND;TZID=UTC:20221021T193000
DTSTAMP:20260419T202015
CREATED:20221004T150609Z
LAST-MODIFIED:20221004T150915Z
UID:1393-1666364400-1666380600@epicerie-lessentielle.fr
SUMMARY:Découverte du massage Amma-assis
DESCRIPTION:Vendredi 21 Octobre\, Hélène ANTUNES\, conseillère en naturopathie\, sera présente à L’Essentielle pour vous proposer un massage Amma-assis ou une séance de réflexologie palmaire\, deux techniques manuelles énergétiques tirées des traditions de la médecine chinoise.\n\nLe massage Amma-assis est une technique manuelle de mieux-être. Le massage s’effectue habillé sur une chaise ergonomique\, il permet de soulager les tensions et de se relaxer. C’est un massage à la fois énergisant et relaxant.\n\nLa réflexologie est basée sur la stimulation de points réflexes situées sur différentes parties du corps pour envoyer un message au corps. La réflexologie entraîne une relance énergétique\, lymphatique et sanguine avec la volonté d’harmoniser l’énergie vitale. Pour cette occasion\, Hélène vous proposera la version palmaire de la réflexologie (dans les mains).\n\nVous pouvez réserver votre place au 07 83 24 92 58 ou par mail à l’adresse contact@lesgrainesdhelene.com. La réservation est facultative. La séance dure 20 min.\n\nIl existe des contre-indications relatives à certaines pathologies. N’hésitez pas à la contacter pour avoir plus d’informations.\n\nPrix libre et conscient.
URL:https://epicerie-lessentielle.fr/event/decouverte-du-massage-amma-assis/
LOCATION:L’Essentielle\, 48 Avenue Lacassagne\, LYON\, 69003\, France
CATEGORIES:Massage
ORGANIZER;CN="Les Graines d'H%C3%A9l%C3%A8ne":MAILTO:contact@lesgrainesdhelene.com
END:VEVENT
BEGIN:VEVENT
DTSTART;TZID=UTC:20221022T100000
DTEND;TZID=UTC:20221022T110000
DTSTAMP:20260419T202015
CREATED:20221004T144500Z
LAST-MODIFIED:20221004T151011Z
UID:1390-1666432800-1666436400@epicerie-lessentielle.fr
SUMMARY:Atelier fabrication de dentifrice
DESCRIPTION:Venez apprendre à faire votre dentifrice maison lors d’un atelier DIY d’une heure à base de produits bios\, au maximum locaux et toujours d’origine naturelle. \nViolène Baarsch\, praticienne diplômée de la Fédération Française de Naturopathie vous conseillera sur les ingrédients à utiliser pour une recette de dentifrice simple\, naturelle et zéro déchet et vous prodiguera des astuces santé/beauté par la même occasion. \nVous repartirez avec votre dentifrice ainsi que la recette pour le refaire chez vous en toute autonomie. \nTous les ingrédients et ustensiles sont fournis\, mais vous pouvez apporter votre récipient si vous le souhaitez. \nInscription par téléphone au 06.87.26.05.24 ou par mail : vio.naturopathe@gmail.com \nhttps://www.byvio.fr \nPrix : 18€
URL:https://epicerie-lessentielle.fr/event/atelier-fabrication-de-dentifrice/
LOCATION:L’Essentielle\, 48 Avenue Lacassagne\, LYON\, 69003\, France
CATEGORIES:Atelier
ORGANIZER;CN="Viol%C3%A8ne Baarsch":MAILTO:vio.naturopathe@gmail.com
END:VEVENT
END:VCALENDAR